BEGIN:VCALENDAR
VERSION:2.0
PRODID:-//cyclelitist - ECPv4.6.20//NONSGML v1.0//EN
CALSCALE:GREGORIAN
METHOD:PUBLISH
X-WR-CALNAME:cyclelitist
X-ORIGINAL-URL:http://cyclelitist.com
X-WR-CALDESC:Events for cyclelitist
BEGIN:VEVENT
DTSTART;VALUE=DATE:20160813
DTEND;VALUE=DATE:20160814
DTSTAMP:20260425T112010
CREATED:20160908T045243Z
LAST-MODIFIED:20160908T045243Z
UID:1543-1471046400-1471132799@cyclelitist.com
SUMMARY:TOUR DE FAT - Boise\, Idaho USA
DESCRIPTION:New Belgium Brewing’s traveling celebration of all things bicycle \nShare this:Click to share on Twitter (Opens in new window)Click to share on Facebook (Opens in new window)Like this:Like Loading...\n\n	\n
URL:http://cyclelitist.com/event/tour-de-fat-boise-idaho-usa/
CATEGORIES:Festival
ATTACH;FMTTYPE=image/jpeg:http://cyclelitist.com/wp-content/uploads/2016/09/featureslider_tourdefat2016.jpg
END:VEVENT
END:VCALENDAR