BEGIN:VCALENDAR
VERSION:2.0
PRODID:-//cyclelitist - ECPv4.6.20//NONSGML v1.0//EN
CALSCALE:GREGORIAN
METHOD:PUBLISH
X-WR-CALNAME:cyclelitist
X-ORIGINAL-URL:http://cyclelitist.com
X-WR-CALDESC:Events for cyclelitist
BEGIN:VEVENT
DTSTART;VALUE=DATE:20161101
DTEND;VALUE=DATE:20161102
DTSTAMP:20260425T112016
CREATED:20160908T045253Z
LAST-MODIFIED:20160908T045253Z
UID:1574-1477958400-1478044799@cyclelitist.com
SUMMARY:RED HOOK CRIT MILANO - Bovisa\, Milano Italy
DESCRIPTION:One of the world’s most exciting sporting events! \nShare this:Click to share on Twitter (Opens in new window)Click to share on Facebook (Opens in new window)Like this:Like Loading...\n\n	\n
URL:http://cyclelitist.com/event/red-hook-crit-milano-bovisa-milano-italy/
CATEGORIES:Criterion
ATTACH;FMTTYPE=image/png:http://cyclelitist.com/wp-content/uploads/2016/08/RHC-Site-ID.png
END:VEVENT
END:VCALENDAR