BEGIN:VCALENDAR
VERSION:2.0
PRODID:-//cyclelitist - ECPv4.6.20//NONSGML v1.0//EN
CALSCALE:GREGORIAN
METHOD:PUBLISH
X-WR-CALNAME:cyclelitist
X-ORIGINAL-URL:http://cyclelitist.com
X-WR-CALDESC:Events for cyclelitist
BEGIN:VEVENT
DTSTART;VALUE=DATE:20161026
DTEND;VALUE=DATE:20161028
DTSTAMP:20260425T112207
CREATED:20160908T045253Z
LAST-MODIFIED:20160908T045253Z
UID:1573-1477440000-1477612799@cyclelitist.com
SUMMARY:Megavalanche St Paul - La Réunion - Saint-Paul\,  France
DESCRIPTION:The Mega in the southern hemisphere \nShare this:Click to share on Twitter (Opens in new window)Click to share on Facebook (Opens in new window)Like this:Like Loading...\n\n	\n
URL:http://cyclelitist.com/event/megavalanche-st-paul-la-reunion-saint-paul-france/
CATEGORIES:Mtb Race
ATTACH;FMTTYPE=image/png:http://cyclelitist.com/wp-content/uploads/2016/08/logo-mega-la-reunion-2016.png
END:VEVENT
END:VCALENDAR