BEGIN:VCALENDAR
VERSION:2.0
PRODID:-//cyclelitist - ECPv4.6.20//NONSGML v1.0//EN
CALSCALE:GREGORIAN
METHOD:PUBLISH
X-WR-CALNAME:cyclelitist
X-ORIGINAL-URL:http://cyclelitist.com
X-WR-CALDESC:Events for cyclelitist
BEGIN:VEVENT
DTSTART;VALUE=DATE:20161015
DTEND;VALUE=DATE:20161017
DTSTAMP:20260425T111946
CREATED:20160908T045245Z
LAST-MODIFIED:20160908T045245Z
UID:1569-1476489600-1476662399@cyclelitist.com
SUMMARY:Gran Prix of Gloucester - Gloucester\, Massachusetts USA
DESCRIPTION:A true New England classic \nShare this:Click to share on Twitter (Opens in new window)Click to share on Facebook (Opens in new window)Like this:Like Loading...\n\n	\n
URL:http://cyclelitist.com/event/gran-prix-of-gloucester-gloucester-massachusetts-usa/
CATEGORIES:Cyclo-cross
ATTACH;FMTTYPE=image/jpeg:http://cyclelitist.com/wp-content/uploads/2016/09/7932170_orig.jpg
END:VEVENT
END:VCALENDAR