BEGIN:VCALENDAR
VERSION:2.0
PRODID:-//cyclelitist - ECPv4.6.20//NONSGML v1.0//EN
CALSCALE:GREGORIAN
METHOD:PUBLISH
X-WR-CALNAME:cyclelitist
X-ORIGINAL-URL:http://cyclelitist.com
X-WR-CALDESC:Events for cyclelitist
BEGIN:VEVENT
DTSTART;VALUE=DATE:20160917
DTEND;VALUE=DATE:20160919
DTSTAMP:20260425T112131
CREATED:20160916T060815Z
LAST-MODIFIED:20160916T060815Z
UID:1721-1474070400-1474243199@cyclelitist.com
SUMMARY:24 Hours of Hell - Kaaawa\, Oahu USA
DESCRIPTION:Where the Pedal Meets the Party! \nShare this:Click to share on Twitter (Opens in new window)Click to share on Facebook (Opens in new window)Like this:Like Loading...\n\n	\n
URL:http://cyclelitist.com/event/24-hours-of-hell-kaaawa-oahu-usa/
CATEGORIES:24 Hour MTB Race
ATTACH;FMTTYPE=image/png:http://cyclelitist.com/wp-content/uploads/2016/09/logo.png
END:VEVENT
END:VCALENDAR